BEGIN:VCALENDAR
PRODID:Fox Chase Cancer Center - Philadelphia\, PA
VERSION:2.0
CALSCALE:GREGORIAN
BEGIN:VEVENT
UID:FCCC-20190712T155232-ID5521
DTSTAMP:20190712T195232Z
LAST-MODIFIED:20190712T195736Z
SUMMARY:Friends’ Vendor Sales\, August 26\, 2019
DESCRIPTION:Monday\, August 26 – NYC Designs
URL:https://www.foxchase.org/events/friends-vendor-sales-august-26-2019
DTSTART:20190826T090000
DTEND:20190826T160000
LOCATION:The Young Pavilion\, outside Karen's Korner
END:VEVENT
END:VCALENDAR
