BEGIN:VCALENDAR
PRODID:Fox Chase Cancer Center - Philadelphia\, PA
VERSION:2.0
CALSCALE:GREGORIAN
BEGIN:VEVENT
UID:FCCC-20160304T154947-ID4926
DTSTAMP:20160304T204947Z
LAST-MODIFIED:20160414T165536Z
SUMMARY:Symposium for Research Partnerships
DESCRIPTION:Fox Chase Cancer Center invites you to learn about our basic\, 
 translational\, and clinical reasearch in an effort to increase collaborat
 ive programs and strategic partnerships. 
URL:https://www.foxchase.org/events/symposium-research-partnerships
DTSTART:20160519T090000
DTEND:20160519T160000
LOCATION:The Franklin Institute222 N. 20th StreetPhiladelphia\, PA 19103
END:VEVENT
END:VCALENDAR
