BEGIN:VCALENDAR
PRODID:Fox Chase Cancer Center - Philadelphia\, PA
VERSION:2.0
CALSCALE:GREGORIAN
BEGIN:VEVENT
UID:FCCC-20260211T152633-ID16171
DTSTAMP:20260211T202633Z
LAST-MODIFIED:20260211T210504Z
SUMMARY:Paws for the Cause Kickoff Special Tea 
URL:https://www.foxchase.org/events/paws-cause-kickoff-special-tea-2026
DTSTART:20260310T153000
DTEND:20260310T170000
LOCATION:Fox Chase Cafeteria 333 Cottman Ave\, Philadelphia 
END:VEVENT
END:VCALENDAR
